BEGIN:VCALENDAR
VERSION:2.0
PRODID:-//Greenwild Spiritual Fellowship - ECPv6.15.20//NONSGML v1.0//EN
CALSCALE:GREGORIAN
METHOD:PUBLISH
X-ORIGINAL-URL:https://greenwildfellowship.org
X-WR-CALDESC:Events for Greenwild Spiritual Fellowship
REFRESH-INTERVAL;VALUE=DURATION:PT1H
X-Robots-Tag:noindex
X-PUBLISHED-TTL:PT1H
BEGIN:VTIMEZONE
TZID:UTC
BEGIN:STANDARD
TZOFFSETFROM:+0000
TZOFFSETTO:+0000
TZNAME:UTC
DTSTART:20220101T000000
END:STANDARD
END:VTIMEZONE
BEGIN:VEVENT
DTSTART;TZID=UTC:20240501T190000
DTEND;TZID=UTC:20240501T210000
DTSTAMP:20260423T182525
CREATED:20240416T224717Z
LAST-MODIFIED:20240416T224717Z
UID:196-1714590000-1714597200@greenwildfellowship.org
SUMMARY:Celebrate Beltane at Awen Grove!
DESCRIPTION:Join us in celebration of Beltane on Wednesday\, May 1 out on Awen Oaks\, home of Awen Grove & Greenwild Spiritual Fellowship!\nFREE EVENT\n• Bring a snack or drink to share• Maypole Dancing• Weave a Witches Ladder Together!• Community Altar – Bring anything you’d like to soak up the energy!• Flower Mandala – Bring flowers to add to our community-created flower mandala• Beltane Fire Ritual• Dancing around the Fire• Bring your drums & any other instruments\nDonations are always wonderful to support our work as a religious nonprofit in South Carolina (and beyond!) You may make a donation at https://www.paypal.com/donate/… or use our donation jar at the event.\nKids are welcome – you must watch them at all times on the property!\nWear your best May Day / Beltane ritual attire – whatever that means to you! Be your most EXTRA – DECORATED self!
URL:https://greenwildfellowship.org/event/celebrate-beltane-at-awen-grove/
LOCATION:Awen Oaks\, 2620 Sharpes Hill Rd\, Gaston\, SC\, 29053\, United States
CATEGORIES:Seasonal Celebrations
ATTACH;FMTTYPE=image/jpeg:https://greenwildfellowship.org/wp-content/uploads/2024/04/435688244_407442912037231_1844624363093199948_n.jpg
END:VEVENT
BEGIN:VEVENT
DTSTART;TZID=UTC:20240426T100000
DTEND;TZID=UTC:20240428T110000
DTSTAMP:20260423T182525
CREATED:20240213T210317Z
LAST-MODIFIED:20240213T210541Z
UID:167-1714125600-1714302000@greenwildfellowship.org
SUMMARY:Spring 2024 Witch Camp
DESCRIPTION:Join us for an immersive experience in spellcraft & ritual as we come together as a magickal camping village for the weekend! This is a PRIMITIVE camping experience for adults (teen children allowed with a parent in attendance).\nSPACE IS LIMITED\nOur weekend will include educational workshops\, spellcrafting\, herbalism instruction & plant medicine creation\, tool creation\, divination sharing and engaging in community ritual together on 8 acres of woods in Traveler’s Rest\, SC.\nEvery morning\, we will begin the day with sun salutations & meditation. We will play\, bond\, commune and create together all weekend!\nOur herbalist-in-residence\, Kasey\, will not only take us on a plant identification walk but also guide us in creating plant medicine over the campfire.\nThere will\, as always\, be a “New Witch Basics” class on Friday afternoon. New witches or those who want a refresher will learn some basics on protection\, ethics\, altars and magickal tools to give you a foundation for the remaining time together.\nWatch our discussion area for details on our crafts\, classes & rituals!\nDATES: Friday\, April 26 @ 10AM through Sunday\, April 28 @ 11AM.\nLOCATION: 20 Acre Private campground in Traveler’s Rest\, SC – Address given once you register. PRIMITIVE camping\, you will need to bring everything you need. There is a compostable toilet\, and non-potable water. No showers.\nCOST: $55 per person\nAdd A Friend for $40 to camp with you! You must be staying in the same tent for the discount and you must register for both of you at the same time.\n(Payment plan available\, but a nonrefundable $20 per person must be paid up front.)\nREGISTRATION: https://3RaysofLight.as.me/witchcamp2024\nDEADLINE: Sat\, April 6\, 2024\nSee below for more information on costs and discounts.\n•Includes 2 Community Dinners\, Firewood\, Non-Potable Water (for washing)\, Educational & DIY Workshops & ALL Materials\n•If you decide not to attend before Sat\, April 6\, you will be refunded everything except a $20 deposit. After April 6\, if you decide not to attend\, you may transfer to another attendee\, but any money paid is nonrefundable.\n•If circumstances beyond our control cause this retreat to be cancelled\, you will receive a refund of everything you have paid except for a $20 deposit per person\, In this circumstance\, your nonrefundable deposit can be used by you or a person of your choice in a future retreat\, class or workshop by 3 Rays of Light.\n•Adults and teens are welcome\, but teens may only attend if an adult family member attends with them.\n•Nursing infants are always welcome to attend free of charge.\n_________\nDOES NOT INCLUDE CAMPING GEAR and EQUIPMENT YOU NEED!!\nBring anything you will need to camp including tent/s\, bedrolls/sleeping bags\, flashlight\, tarps in case of rain\, camp chairs\, etc.\nDOES NOT INCLUDE YOUR BREAKFAST OR LUNCHES!! DOES NOT INCLUDE DRINKING WATER!!\nBring food that can be prepared over the fire\, or doesn’t need cooked\, to provide for your own breakfasts and lunches. Bring enough drinking water for the weekend. There are stores nearby so if you need something you can drive to a store. We will have hot water on the fire for us all weekend.\nLIMITED SPACE. WE ARE CREATING INTENTIONAL SPACE TOGETHER. Whether you are a seeker\, a new witch\, or a seasoned witch\, come together with like-minded folks for a weekend together. Space for camping is limited\, so be sure to register if you’re interested.\nCAMP VOLUNTEERS NEEDED\nPlease contact Mela at 3raysoflight@gmail.com or message her if you are interested in volunteering at the witch camp. General volunteers to help folks set up camp are needed\, as well as anyone who might want to teach a workshop\, lead a ritual\, meditation\, nature walk\, etc. There is no discount involved\, but you are invited (and encouraged) to come a day early (Thursday\, April 25).\nWITCH CAMP STAFF NEEDED\nThere are a few specific volunteer positions available that come with discounts:\n• (TAKEN) FIRE WITCH – In charge of lighting our fire in the morning\, and keeping it going through the day as we need it for meals\, etc. Please be experienced in making outdoor fires!!\n*Amber Arati\n• (TAKEN) HEARTH WITCH – In charge of our community dinners on Friday & Saturday night. Cooking & making sure we have what we need. Please be experienced in cooking over a campfire!!\n*Mandy Applegate\nOTHER HELPFUL INFORMATION\nFood Allergies or Sensitivities: Please let us know when you register if you have allergies\, sensitivities or special requests such as gluten-free or vegetarian.\nRitual attire\, witchy attire\, etc is welcome and encouraged! Be sure to check weather\, it should be nice the last weekend in April but could be chilly in the evenings. Prepare for rain\, just in case.\nBring any divination tools\, journal & pen\, altar items you wish to put on our Spring altar\, or anything else that connects you spiritually!\nBathrooms: We will have a compostable toilet on the campsite.\nUnplug From Technology: We ask that you honor the sacred space we are creating here by not bringing laptops and such with you. Cell phones are fine\, but as this is an “unplugged” retreat\, we’d rather you not be focusing your energy and attention on things you find online on your phone\, so please consider tucking them away just for emergencies or using them away from other retreatants. Please do not take photos or videos of fellow witches unless you have their permission.\nSpring Witch Camp is sponsored by the nonprofit Greenwild Spiritual Fellowship\, and supported by 3 Rays of Light Healing Center\, Midlands Pagan Collective\, and Awen Grove Pagan Fellowship.
URL:https://greenwildfellowship.org/event/spring-2024-witch-camp/
LOCATION:Campground
CATEGORIES:camping event,Educational Opportunities
ATTACH;FMTTYPE=image/png:https://greenwildfellowship.org/wp-content/uploads/2024/02/spring-witchcamp-Facebook-Event-Cover-2.png
END:VEVENT
BEGIN:VEVENT
DTSTART;TZID=UTC:20240423T193000
DTEND;TZID=UTC:20240423T203000
DTSTAMP:20260423T182525
CREATED:20240416T223208Z
LAST-MODIFIED:20240416T224736Z
UID:190-1713900600-1713904200@greenwildfellowship.org
SUMMARY:Full Pink Moon Ceremony At Awen Grove
DESCRIPTION:  \nJoin us for this month’s FULL MOON on Tuesday\, April 23 on the Full Pink Moon. Our theme and focus will be on HEALING – mind\, body and spirit. Any healers\, energy practitioners\, including Reiki healers who attend will be invited to join with us in using our healing gifts with the community. \n\nFREE EVENT\n• Community Altar – bring items to be charged & blessed!• Healing Ritual• Fire & Connection – bring a camp chair to sit on!• Bring a snack to share if you’d like!\nDonations are always wonderful to support our work as a religious nonprofit in South Carolina (and beyond!) You may make a donation at https://www.paypal.com/donate/… or use our donation jar at the event.\nKids are welcome – you must watch them at all times on the property!\nAwen Grove is Mela’s homestead property where 3 Rays of Light & Greenwild Spiritual Fellowship are currently located. It is at 2620 Sharpes Hill Rd\, Gaston SC 29053.\nThere is plenty of parking. This is OUTDOORS.\nThis is also on Facebook
URL:https://greenwildfellowship.org/event/full-pink-moon-ceremony-at-awen-grove/
LOCATION:Awen Oaks\, 2620 Sharpes Hill Rd\, Gaston\, SC\, 29053\, United States
CATEGORIES:Moon Cycle
ATTACH;FMTTYPE=image/jpeg:https://greenwildfellowship.org/wp-content/uploads/2024/04/435757038_407437655371090_6844260477080144984_n.jpg
END:VEVENT
BEGIN:VEVENT
DTSTART;TZID=UTC:20240306T190000
DTEND;TZID=UTC:20240306T200000
DTSTAMP:20260423T182525
CREATED:20240213T210034Z
LAST-MODIFIED:20240213T210034Z
UID:163-1709751600-1709755200@greenwildfellowship.org
SUMMARY:Wondering Wednesday: The Witch Wound (ONLINE)
DESCRIPTION:Wednesday\, March 6 at 7pm LIVESTREAM on FACEBOOK \n\nThe Witch Wound\nLet’s discuss the witch wound that most\, if not all of us carry. Learn what it is\, and how we can heal from it and move forward. Some call it the persecution wound\, some even call it the “energetic imprint of colonization”\, and it is considered an ancestral wound we carry energetically that can be creating real-life problems today for us! \n\nSTREAMED IN THE 3 RAYS OF LIGHT HEALING COMMUNITY GROUP so please find me here https://www.facebook.com/groups/1328797240976214 at 7pm on Wed\, March 6!\n\nDonations are amazing!! (suggested donation $5)\, all donations go to support Greenwild Spiritual Foundation’s efforts to become a 501(c)3 religious non-profit.\nPaypal: paypal.me/greenwildfellowship\nCashApp: $PBorawski\nVenmo: @melaborawski
URL:https://greenwildfellowship.org/event/wondering-wednesday-the-witch-wound-online/
LOCATION:Facebook Streamig
CATEGORIES:Educational Opportunities
ATTACH;FMTTYPE=image/png:https://greenwildfellowship.org/wp-content/uploads/2024/02/list-5.png
END:VEVENT
BEGIN:VEVENT
DTSTART;TZID=UTC:20240221T190000
DTEND;TZID=UTC:20240221T200000
DTSTAMP:20260423T182525
CREATED:20240213T205729Z
LAST-MODIFIED:20240213T205729Z
UID:158-1708542000-1708545600@greenwildfellowship.org
SUMMARY:Wondering Wednesday: Using "Love Languages" for Self-Love (ONLINE)
DESCRIPTION:Wednesday\, Feb 21 at 7pm LIVESTREAM ON FACEBOOK \n\nUsing Love Language ideas for SELF-LOVE! \n\nLet’s talk about the idea of love languages\, what’s useful for us and what may not be so useful\, and how we can turn that around into how we can better love ourselves! \n\nSTREAMED IN THE 3 RAYS OF LIGHT HEALING COMMUNITY GROUP so please find me here https://www.facebook.com/groups/1328797240976214 at 7pm on Wed\, Feb 21!\n\nDonations are amazing!! (suggested donation $5)\, all donations go to support Greenwild Spiritual Foundation’s efforts to become a 501(c)3 religious non-profit.\nPaypal: paypal.me/greenwildfellowship\nCashApp: $PBorawski\nVenmo: @melaborawski
URL:https://greenwildfellowship.org/event/wondering-wednesday-using-love-languages-for-self-love-online/
LOCATION:Facebook Streamig
CATEGORIES:Educational Opportunities
ATTACH;FMTTYPE=image/png:https://greenwildfellowship.org/wp-content/uploads/2024/02/list-4.png
END:VEVENT
BEGIN:VEVENT
DTSTART;TZID=UTC:20240131T183000
DTEND;TZID=UTC:20240131T200000
DTSTAMP:20260423T182525
CREATED:20231213T192008Z
LAST-MODIFIED:20231213T192009Z
UID:134-1706725800-1706731200@greenwildfellowship.org
SUMMARY:Imbolc Eve Fire Feast & Celebration
DESCRIPTION:Join us around the bonfire as we celebrate Imbolc Eve and honor the goddesses Brigid & The Cailleach.\nImbolc is sometimes called Candlemas\, or St. Brigid’s Day. In the Greenwild Tradition\, this time of year is called Expectant Season. It’s a time of looking forward to the coming spring as we begin to look for those little signs of an approaching Fertile Season.\n• Make a Brigid’s Cross\n• Join in Meditation\n• Chanting & Singing around the Fire\n• Feasting on traditional Imbolc foods made of milk\, cheese\, breads and cakes\n• Candle lighting ritual\n• Build your community!\nIf you’d like to wear the colors of Imbolc\, traditionally they are white\, silver\, green\, and the colors of fire (red/orange/yellow) or pale pastels to beckon spring! Bring a camp chair to sit on around the fire!\nSponsored by Awen Grove Pagan Fellowship & Greenwild Spiritual Fellowship.\nHeld at Awen Oaks\, Mela’s homestead and also home to 3 Rays of Light Healing Center\, one of our supporters.\nFREE EVENT\nDonations are always absolutely wonderful and will help fund this event and others through Greenwild Spiritual Fellowship. A donation jar will be at the event or you may donate ahead of time through Paypal here: https://www.paypal.com/donate/…\n————\nThis event is also part of celebrating the South Carolina Interfaith Harmony Month and all are invited to participate or simply observe our celebration.\nCheck out interfaithpartnersofsc.org for more information or to find other events around South Carolina in January 2024.
URL:https://greenwildfellowship.org/event/imbolc-eve-fire-feast-celebration/
LOCATION:Awen Oaks\, 2620 Sharpes Hill Rd\, Gaston\, SC\, 29053\, United States
CATEGORIES:Seasonal Celebrations
ATTACH;FMTTYPE=image/jpeg:https://greenwildfellowship.org/wp-content/uploads/2023/12/imbolc-1920-x-1080-px-1.jpg
END:VEVENT
BEGIN:VEVENT
DTSTART;TZID=UTC:20240111T190000
DTEND;TZID=UTC:20240111T200000
DTSTAMP:20260423T182525
CREATED:20231213T191715Z
LAST-MODIFIED:20231213T191715Z
UID:131-1704999600-1705003200@greenwildfellowship.org
SUMMARY:New Moon\, New Year Prosperity Ritual (VIRTUAL)
DESCRIPTION:VIRTUAL EVENT!\nThursday\, Jan 11 at 7pm EST\nJoin us for January’s New Moon as we call in abundance and prosperity for 2024. You’ll need a candle (any color will work\, but green or gold fits our theme) and a piece of paper about the size of a check and pen for each person joining us.\nNew moons are for setting new intentions\, so join us in community as we set the intention for a prosperous new year in 2024.\nZoom will ask you for your email address when you register for the link\, it simply allows us to have a safer experience. So\, please register and join us! Click Here to Register: https://us02web.zoom.us/…/tZwkdeyrqzotH9JDGd…\nSponsored by the Awen Grove Pagan Fellowship\, which is part of Greenwild Spiritual Fellowship.\nFREE EVENT\nDonations are always wonderful to support our work as a religious nonprofit in South Carolina (and beyond!). You may make a donation at https://www.paypal.com/donate/…\n———-\nThis virtual event is part of South Carolina Interfaith Harmony Month and everyone\, no matter your faith\, is welcome to attend. It is your choice whether you participate or simply observe!
URL:https://greenwildfellowship.org/event/new-moon-new-year-prosperity-ritual-virtual/
LOCATION:Zoom
CATEGORIES:Moon Cycle
ATTACH;FMTTYPE=image/png:https://greenwildfellowship.org/wp-content/uploads/2023/12/new-moon-ritual-2.png
END:VEVENT
BEGIN:VEVENT
DTSTART;TZID=UTC:20231226T200000
DTEND;TZID=UTC:20231226T210000
DTSTAMP:20260423T182525
CREATED:20231213T185916Z
LAST-MODIFIED:20231213T185917Z
UID:126-1703620800-1703624400@greenwildfellowship.org
SUMMARY:Full Moon Ritual - Yuletide Magick (VIRTUAL)
DESCRIPTION:ONLINE RITUAL – All are welcome! \n\nJoin us in celebrating the Yuletide season at December 2023’s Full Moon Ritual held virtually on Zoom. This will be Greenwild Spiritual Fellowships FIRST official Full Moon Ritual! \nRegister here: https://us02web.zoom.us/meeting/register/tZEtfu2grDMsHNJ0TomWvWwiOscEKHowCOaK \n\nTake a tour of Yuletide energies from around the world\, talk about pagan Yule traditions (you’ll have a chance to share your own!) and celebrate the Yule season with us. We’ll also be doing a traditional release ritual to get rid of old baggage we don’t want to take into 2024. \n\nIf you wish to participate\, please have a candle (LED or flame) as we’ll be lighting all our candles together to celebrate this season. Festive attire (whatever that means to you!) is welcomed! \n\nYou are welcome to stay after the ritual during our Divination Share – bring your favorite divination tool to show\, share\, or even give us a reading! \n\n*****\nThis is a FREE EVENT. Donations to the religious nonprofit Greenwild Spiritual Fellowship are always appreciated\, especially as we are pursuing our 501(c)3 and setting up our nonprofit. \nThis ceremony will be led by the ordained celebrant Rev. Mela Borawski\, whose own spiritual path is eclectic and earth-centered. If you have questions\, please feel free to contact us at greenwildfellowship@gmail.com. \n\nRemember –\n– 8pm for the ceremony.\n– Zoom link requires email registration\n– Have a candle (LED or flame).
URL:https://greenwildfellowship.org/event/full-moon-ritual-yuletide-magick-virtual/
LOCATION:Zoom
CATEGORIES:Moon Cycle
ATTACH;FMTTYPE=image/png:https://greenwildfellowship.org/wp-content/uploads/2023/12/dec-full-moon-2023-1.png
END:VEVENT
BEGIN:VEVENT
DTSTART;TZID=UTC:20231220T190000
DTEND;TZID=UTC:20231220T190000
DTSTAMP:20260423T182525
CREATED:20231213T190639Z
LAST-MODIFIED:20231213T190640Z
UID:128-1703098800-1703098800@greenwildfellowship.org
SUMMARY:Mother's Night - Solstice Eve Ritual (VIRTUAL)
DESCRIPTION:This is a virtual ritual which will be held on Zoom\, and all are invited.\n\nWe will celebrate the First Day of Yule\, sometimes called Mother’s Night\, as we honor the light in the midst of darkness and the mother goddesses.\n\nWe ask that you turn off as many lights as you can in your home before coming to the ritual\, and that you have a candle (real or LED is fine). During the ritual you’ll be asked to turn off any remaining lights\, and also to light your candle. It helps if most of your lights are already off before ritual starts\, so you only have to turn off the room you’re in.\n\n7pm EST\n\nPlease register with the link to Zoom to receive the Zoom invitation! It’s free\, registration just enables you to put in an email and get the link! https://us02web.zoom.us/meeting/register/tZYud–sqjIiGdNfXmQv0XEK8TXM0S-lWDd8\n\nSo you’ll need –\n– A candle & lighter (or LED candle)\n– Lights able to be turned off (as many as possible)\n– A snack to feast together\, and a drink for a toast.
URL:https://greenwildfellowship.org/event/mothers-night-solstice-eve-ritual-virtual/
LOCATION:SC
CATEGORIES:Seasonal Celebrations
ATTACH;FMTTYPE=image/png:https://greenwildfellowship.org/wp-content/uploads/2023/12/mothers-night-1-2.png
END:VEVENT
END:VCALENDAR