BEGIN:VCALENDAR
VERSION:2.0
PRODID:-//Greenwild Spiritual Fellowship - ECPv6.15.20//NONSGML v1.0//EN
CALSCALE:GREGORIAN
METHOD:PUBLISH
X-WR-CALNAME:Greenwild Spiritual Fellowship
X-ORIGINAL-URL:https://greenwildfellowship.org
X-WR-CALDESC:Events for Greenwild Spiritual Fellowship
REFRESH-INTERVAL;VALUE=DURATION:PT1H
X-Robots-Tag:noindex
X-PUBLISHED-TTL:PT1H
BEGIN:VTIMEZONE
TZID:UTC
BEGIN:STANDARD
TZOFFSETFROM:+0000
TZOFFSETTO:+0000
TZNAME:UTC
DTSTART:20230101T000000
END:STANDARD
END:VTIMEZONE
BEGIN:VEVENT
DTSTART;TZID=UTC:20250302T123000
DTEND;TZID=UTC:20250302T143000
DTSTAMP:20260423T182525
CREATED:20250225T164341Z
LAST-MODIFIED:20250225T164341Z
UID:383-1740918600-1740925800@greenwildfellowship.org
SUMMARY:Wild Communion at Awen Grove
DESCRIPTION:It’s time for Wild Communion again!!\nStarting in March\, we’ll meet on the first Sunday of each month to gather outdoors to commune with the mystical healing gifts of nature as our Hearthkeeper\, Mela Borawski\, inspires us with a message while we picnic potluck together. We call this our Wild Communion and you are invited to join us each month!\n——————–\nLEARNING THE WATER SONG\n——————–\nMessage: How do you protect yourself\, your sanity\, and your energy in the midst of chaos?\nBring chairs or blankets\, a potluck dish to share\, and we’ll meet in our ritual space under Aunty Oak.\nIf it’s chilly\, we’ll have a fire. Dress for the weather. If it’s raining\, we will meet inside Mela’s home – rain or shine event.\nThis is also family-friendly\, we just ask that you watch your children as they play on the property.\n#picnichomily\n#wildcommunion
URL:https://greenwildfellowship.org/event/wild-communion-at-awen-grove/
LOCATION:Awen Grove\, 2620 Sharpes Hill Rd\, Gaston\, SC\, 29053\, United States
CATEGORIES:Wild Communion
ATTACH;FMTTYPE=image/jpeg:https://greenwildfellowship.org/wp-content/uploads/2025/02/wild-communion-video-1.jpg
END:VEVENT
BEGIN:VEVENT
DTSTART;TZID=UTC:20240721T180000
DTEND;TZID=UTC:20240721T193000
DTSTAMP:20260423T182525
CREATED:20240523T043155Z
LAST-MODIFIED:20240523T043155Z
UID:219-1721584800-1721590200@greenwildfellowship.org
SUMMARY:Wild Communion! Gatherings in Nature
DESCRIPTION:Each month on the third Sunday at 6pm\, we gather out in nature on blankets\, benches and chairs to commune with the mystical healing gifts of nature as our Hearthkeeper\, Mela Borawski\, inspires us with a message while we picnic together. We call this our Wild Communion and you are invited to join us each month!\nBring chairs or blankets\, and a picnic supper for your family\, and set up under the trees near Aunty Oak this summer. During the summer\, these gatherings will NOT include a bonfire (for all those who are bothered by the smoke!!).\n#picnichomily#wildcommunion\n**Today’s Wild Communion will be followed by our FULL MOON RITUAL at 8pm if anyone wants to stay for that!**
URL:https://greenwildfellowship.org/event/wild-communion-gatherings-in-nature/
LOCATION:Awen Oaks\, 2620 Sharpes Hill Rd\, Gaston\, SC\, 29053\, United States
CATEGORIES:Wild Communion
ATTACH;FMTTYPE=image/jpeg:https://greenwildfellowship.org/wp-content/uploads/2024/05/Wild-Communion-All.jpg
END:VEVENT
BEGIN:VEVENT
DTSTART;TZID=UTC:20240616T180000
DTEND;TZID=UTC:20240616T193000
DTSTAMP:20260423T182525
CREATED:20240523T042437Z
LAST-MODIFIED:20240523T042437Z
UID:214-1718560800-1718566200@greenwildfellowship.org
SUMMARY:Wild Communion! Monthly Gatherings in Nature
DESCRIPTION:Each month on the third Sunday at 6pm\, we gather out in nature on blankets\, benches and chairs to commune with the mystical healing gifts of nature as our Hearthkeeper\, Mela Borawski\, inspires us with a message while we picnic together. We call this our Wild Communion and you are invited to join us each month!\nBring chairs or blankets\, and a picnic supper for your family\, and set up under the trees near Aunty Oak this summer starting on Sunday\, June 16th! During the summer\, these gatherings will NOT include a bonfire (for all those who are bothered by the smoke!!).
URL:https://greenwildfellowship.org/event/wild-communion-monthly-gatherings-in-nature/
LOCATION:Awen Oaks\, 2620 Sharpes Hill Rd\, Gaston\, SC\, 29053\, United States
CATEGORIES:Wild Communion
ATTACH;FMTTYPE=image/jpeg:https://greenwildfellowship.org/wp-content/uploads/2024/05/Wild-Communion-All.jpg
END:VEVENT
END:VCALENDAR