BEGIN:VCALENDAR
VERSION:2.0
PRODID:-//Greenwild Spiritual Fellowship - ECPv6.15.20//NONSGML v1.0//EN
CALSCALE:GREGORIAN
METHOD:PUBLISH
X-ORIGINAL-URL:https://greenwildfellowship.org
X-WR-CALDESC:Events for Greenwild Spiritual Fellowship
REFRESH-INTERVAL;VALUE=DURATION:PT1H
X-Robots-Tag:noindex
X-PUBLISHED-TTL:PT1H
BEGIN:VTIMEZONE
TZID:UTC
BEGIN:STANDARD
TZOFFSETFROM:+0000
TZOFFSETTO:+0000
TZNAME:UTC
DTSTART:20220101T000000
END:STANDARD
END:VTIMEZONE
BEGIN:VEVENT
DTSTART;TZID=UTC:20250620T090000
DTEND;TZID=UTC:20250622T110000
DTSTAMP:20260423T182934
CREATED:20250124T190217Z
LAST-MODIFIED:20250422T152504Z
UID:315-1750410000-1750590000@greenwildfellowship.org
SUMMARY:Summer Solstice Witch Camp 2025
DESCRIPTION:Join us for an immersive experience in nature communion\, spellcraft & ritual as we come together as a magickal camping village in Gaston\, SC at our Awen Grove Covenstead for the weekend! \n\nThis is a PRIMITIVE camping experience for adults (teen children allowed with a parent in attendance). We are now allowing you to come for the day\, see “Daytrippers” in the information below for cost. \n\nOur weekend will include educational & hands-on workshops\, spellcrafting\, divination sharing and engaging in community ritual together. \n\nOur theme for our Summer Solstice Witch Camp is all about WATER\, EARTH & SUNSHINE. \n\nWe will begin each morning with sun salutations & meditation. We will play\, bond\, commune and create together all weekend!\nThis is a beautiful opportunity for connecting with the land\, sky\, water and plants\, and be offered many different workshops from attendees!\n\nThere will\, as always\, be a “New Witch Basics” class on Friday with Mela. New witches or those who want a refresher will learn some basics on protection\, ethics\, altars and magickal tools to give you a foundation for the remaining time together.\n\nThere is a pool available at Awen Grove\, so please bring your swimsuits\, sunscreen and pool towels etc!
URL:https://greenwildfellowship.org/event/summer-solstice-2025-witch-camp-immersive-camping-event/
LOCATION:Awen Grove\, 2620 Sharpes Hill Rd\, Gaston\, SC\, 29053\, United States
CATEGORIES:camping event,Seasonal Celebrations
ATTACH;FMTTYPE=image/jpeg:https://greenwildfellowship.org/wp-content/uploads/2025/01/2025-summer-witchcamp-2.jpg
END:VEVENT
BEGIN:VEVENT
DTSTART;TZID=UTC:20250316T123000
DTEND;TZID=UTC:20250316T143000
DTSTAMP:20260423T182934
CREATED:20250306T161812Z
LAST-MODIFIED:20250306T161812Z
UID:431-1742128200-1742135400@greenwildfellowship.org
SUMMARY:Ostara Gathering
DESCRIPTION:Greenwild Spiritual Fellowship invites you and your family on Sunday\, March 16 from 12:30-2:30pm. \nJoin us at Awen Grove in Gaston\, SC for an Ostara Gathering to celebrate the Spring Equinox! \nBring\n– Picnic Potluck item to share\n– Camp chair\n– Picnic basket (we are having adult & kids egg hunt)\n– Seed/Plant/Seedling Trade item/s \nOur plans\n– Picnic Potluck with the community\n– Adult & Kids Egg Hunt (bring baskets)\n– Plant / Seed / Seedling / Cutting (and gardening supplies are welcome too) for Swapping! Bring something to take something home!\n– Ostara Ritual with the board & initiates\n– Crafting table to DIY a spring craft item \nYou will also be able to SEE & BUY RAFFLE TICKETS for our wonderful fundraising raffle baskets. We’ll draw the winners at the end of our time together! Raffle tickets are $1. See discussion for more information on the basket raffle. \nTHERE IS NO CHARGE TO ATTEND but as a religious nonprofit church here in SC\, we do appreciate every single donation so we’ll have a can you can donate to if you wish to do so. We also have a Paypal link for Greenwild if you prefer to donate that way.
URL:https://greenwildfellowship.org/event/ostara-gathering/
LOCATION:Awen Grove\, 2620 Sharpes Hill Rd\, Gaston\, SC\, 29053\, United States
CATEGORIES:Seasonal Celebrations
ATTACH;FMTTYPE=image/png:https://greenwildfellowship.org/wp-content/uploads/2025/03/ostara-box-2.png
END:VEVENT
BEGIN:VEVENT
DTSTART;TZID=UTC:20250201T170000
DTEND;TZID=UTC:20250201T200000
DTSTAMP:20260423T182934
CREATED:20250124T174836Z
LAST-MODIFIED:20250124T174837Z
UID:279-1738429200-1738440000@greenwildfellowship.org
SUMMARY:Imbolc - Feast of Lights | Potluck\, Candlelit Procession & Ritual
DESCRIPTION:FREE EVENT\nCelebrate Imbolc with a Feast of Lights! Join us for an outdoor family-style potluck meal under Aunty Oak\, followed by a candlelit procession and ritual for Imbolc.\n\n• Potluck! Bring a dish (or two) to share for our feast. Imbolc is traditionally a time where feasts include cheese\, eggs\, milk (and non-dairy is fine too)\, root veggies\, breads\, honey\, butter\, warming foods –but bring whatever you like.\n• Community Altar – bring something to put on it!\n\nGreenwild will provide plates\, utensils\, napkins\, and bottled water. We will also provide candles for the procession. If you’d like to bring luminaries\, candles (in candleholders)\, lanterns or LED candles to add to our array of lights PLEASE DO!\n\nWITCHY ITEM SWAP!!We will be doing a witchy item swap again as an activity for this event. Please bring any items of a pagan\, witchy\, or spiritual nature that you no longer use or need\, and swap for other items! This is a great way to swap out tarot or oracle decks\, divination tools\, ritual garb\, jewelry\, altar items\, handmade items\, wands\, crystals\, etc. 1 item for 1 item\, so if you bring 5 items you can take home 5 items from the swap!\n\nDonations are always wonderful to support our work as a religious nonprofit in South Carolina (and beyond!) You may make a donation on our website or use our donation jar at the event. \n\nKids are welcome – you must watch them at all times on the property! \n\n*Need the address? You’ll need to message one of the Council\, join our Discord or email greenwildfellowship@gmail.com for that information.*
URL:https://greenwildfellowship.org/event/imbolc-feast-of-lights-potluck-candlelit-procession-ritual/
LOCATION:Awen Grove\, 2620 Sharpes Hill Rd\, Gaston\, SC\, 29053\, United States
CATEGORIES:Seasonal Celebrations
ATTACH;FMTTYPE=image/png:https://greenwildfellowship.org/wp-content/uploads/2025/01/imbolc-feast-of-lights.png
END:VEVENT
BEGIN:VEVENT
DTSTART;TZID=UTC:20240501T190000
DTEND;TZID=UTC:20240501T210000
DTSTAMP:20260423T182934
CREATED:20240416T224717Z
LAST-MODIFIED:20240416T224717Z
UID:196-1714590000-1714597200@greenwildfellowship.org
SUMMARY:Celebrate Beltane at Awen Grove!
DESCRIPTION:Join us in celebration of Beltane on Wednesday\, May 1 out on Awen Oaks\, home of Awen Grove & Greenwild Spiritual Fellowship!\nFREE EVENT\n• Bring a snack or drink to share• Maypole Dancing• Weave a Witches Ladder Together!• Community Altar – Bring anything you’d like to soak up the energy!• Flower Mandala – Bring flowers to add to our community-created flower mandala• Beltane Fire Ritual• Dancing around the Fire• Bring your drums & any other instruments\nDonations are always wonderful to support our work as a religious nonprofit in South Carolina (and beyond!) You may make a donation at https://www.paypal.com/donate/… or use our donation jar at the event.\nKids are welcome – you must watch them at all times on the property!\nWear your best May Day / Beltane ritual attire – whatever that means to you! Be your most EXTRA – DECORATED self!
URL:https://greenwildfellowship.org/event/celebrate-beltane-at-awen-grove/
LOCATION:Awen Oaks\, 2620 Sharpes Hill Rd\, Gaston\, SC\, 29053\, United States
CATEGORIES:Seasonal Celebrations
ATTACH;FMTTYPE=image/jpeg:https://greenwildfellowship.org/wp-content/uploads/2024/04/435688244_407442912037231_1844624363093199948_n.jpg
END:VEVENT
BEGIN:VEVENT
DTSTART;TZID=UTC:20240131T183000
DTEND;TZID=UTC:20240131T200000
DTSTAMP:20260423T182934
CREATED:20231213T192008Z
LAST-MODIFIED:20231213T192009Z
UID:134-1706725800-1706731200@greenwildfellowship.org
SUMMARY:Imbolc Eve Fire Feast & Celebration
DESCRIPTION:Join us around the bonfire as we celebrate Imbolc Eve and honor the goddesses Brigid & The Cailleach.\nImbolc is sometimes called Candlemas\, or St. Brigid’s Day. In the Greenwild Tradition\, this time of year is called Expectant Season. It’s a time of looking forward to the coming spring as we begin to look for those little signs of an approaching Fertile Season.\n• Make a Brigid’s Cross\n• Join in Meditation\n• Chanting & Singing around the Fire\n• Feasting on traditional Imbolc foods made of milk\, cheese\, breads and cakes\n• Candle lighting ritual\n• Build your community!\nIf you’d like to wear the colors of Imbolc\, traditionally they are white\, silver\, green\, and the colors of fire (red/orange/yellow) or pale pastels to beckon spring! Bring a camp chair to sit on around the fire!\nSponsored by Awen Grove Pagan Fellowship & Greenwild Spiritual Fellowship.\nHeld at Awen Oaks\, Mela’s homestead and also home to 3 Rays of Light Healing Center\, one of our supporters.\nFREE EVENT\nDonations are always absolutely wonderful and will help fund this event and others through Greenwild Spiritual Fellowship. A donation jar will be at the event or you may donate ahead of time through Paypal here: https://www.paypal.com/donate/…\n————\nThis event is also part of celebrating the South Carolina Interfaith Harmony Month and all are invited to participate or simply observe our celebration.\nCheck out interfaithpartnersofsc.org for more information or to find other events around South Carolina in January 2024.
URL:https://greenwildfellowship.org/event/imbolc-eve-fire-feast-celebration/
LOCATION:Awen Oaks\, 2620 Sharpes Hill Rd\, Gaston\, SC\, 29053\, United States
CATEGORIES:Seasonal Celebrations
ATTACH;FMTTYPE=image/jpeg:https://greenwildfellowship.org/wp-content/uploads/2023/12/imbolc-1920-x-1080-px-1.jpg
END:VEVENT
BEGIN:VEVENT
DTSTART;TZID=UTC:20231220T190000
DTEND;TZID=UTC:20231220T190000
DTSTAMP:20260423T182934
CREATED:20231213T190639Z
LAST-MODIFIED:20231213T190640Z
UID:128-1703098800-1703098800@greenwildfellowship.org
SUMMARY:Mother's Night - Solstice Eve Ritual (VIRTUAL)
DESCRIPTION:This is a virtual ritual which will be held on Zoom\, and all are invited.\n\nWe will celebrate the First Day of Yule\, sometimes called Mother’s Night\, as we honor the light in the midst of darkness and the mother goddesses.\n\nWe ask that you turn off as many lights as you can in your home before coming to the ritual\, and that you have a candle (real or LED is fine). During the ritual you’ll be asked to turn off any remaining lights\, and also to light your candle. It helps if most of your lights are already off before ritual starts\, so you only have to turn off the room you’re in.\n\n7pm EST\n\nPlease register with the link to Zoom to receive the Zoom invitation! It’s free\, registration just enables you to put in an email and get the link! https://us02web.zoom.us/meeting/register/tZYud–sqjIiGdNfXmQv0XEK8TXM0S-lWDd8\n\nSo you’ll need –\n– A candle & lighter (or LED candle)\n– Lights able to be turned off (as many as possible)\n– A snack to feast together\, and a drink for a toast.
URL:https://greenwildfellowship.org/event/mothers-night-solstice-eve-ritual-virtual/
LOCATION:SC
CATEGORIES:Seasonal Celebrations
ATTACH;FMTTYPE=image/png:https://greenwildfellowship.org/wp-content/uploads/2023/12/mothers-night-1-2.png
END:VEVENT
END:VCALENDAR