BEGIN:VCALENDAR
VERSION:2.0
PRODID:-//Greenwild Spiritual Fellowship - ECPv6.15.20//NONSGML v1.0//EN
CALSCALE:GREGORIAN
METHOD:PUBLISH
X-ORIGINAL-URL:https://greenwildfellowship.org
X-WR-CALDESC:Events for Greenwild Spiritual Fellowship
REFRESH-INTERVAL;VALUE=DURATION:PT1H
X-Robots-Tag:noindex
X-PUBLISHED-TTL:PT1H
BEGIN:VTIMEZONE
TZID:UTC
BEGIN:STANDARD
TZOFFSETFROM:+0000
TZOFFSETTO:+0000
TZNAME:UTC
DTSTART:20220101T000000
END:STANDARD
END:VTIMEZONE
BEGIN:VEVENT
DTSTART;TZID=UTC:20250314T190000
DTEND;TZID=UTC:20250314T200000
DTSTAMP:20260423T182935
CREATED:20250306T161454Z
LAST-MODIFIED:20250306T161454Z
UID:428-1741978800-1741982400@greenwildfellowship.org
SUMMARY:Full Moon Ritual | Fire & Ash
DESCRIPTION:The blood moon eclipse will have taken place very early Friday morning (totality here in SC 2:26-3:30AM)\, so let’s meet Friday night when that energy is still crackling in the air and work magick under the full moon! \nFriday – March 14 | 7-8pm \nBring –\ncamp chair\nwater bottle\nanything you want to burn in the bonfire to release \nOur Fire & Ash Ritual will focus on RELEASE\, HEALING & PROTECTION as you go forward in life. We will be having a fire. Bring anything that you’d like to burn that would give you a release from something or someone that’s been holding you back. \nPerhaps you need to forgive yourself and heal the pain\, and there’s something symbolic you could throw in the fire. Maybe it’s a piece of a wedding dress or veil\, letters\, journal\, stuffed animal – Maybe it’s a newspaper article – it doesn’t matter – it’s it is a heavy burden and symbolic (or related) to that burden\, bring it to burn in our bonfire. \nWe’ll have paper and pen available for you to write letters or lists or names to burn as well. \nWe will do energy healing once we’ve released to fill those voids with love\, healing and confidence to move forward.\nWe’ll end our time with the creation of a protection sigil you can use going forward.
URL:https://greenwildfellowship.org/event/full-moon-ritual-fire-ash/
LOCATION:Awen Grove\, 2620 Sharpes Hill Rd\, Gaston\, SC\, 29053\, United States
CATEGORIES:Moon Cycle
ATTACH;FMTTYPE=image/png:https://greenwildfellowship.org/wp-content/uploads/2025/03/ostara-full-moon-2.png
END:VEVENT
BEGIN:VEVENT
DTSTART;TZID=UTC:20250228T200000
DTEND;TZID=UTC:20250228T203000
DTSTAMP:20260423T182935
CREATED:20250225T163926Z
LAST-MODIFIED:20250225T164015Z
UID:380-1740772800-1740774600@greenwildfellowship.org
SUMMARY:Virtual New Moon Ritual | Crafting Affirmations
DESCRIPTION:VIRTUAL EVENT!\nFri\, Feb 28 at 8pm EST\nZoom Link will be posted in discussion closer to event.\nJoin Greenwild Spiritual Fellowship (Awen Grove) for February’s New Moon. We’ll be focusing on crafting powerful affirmations for ourselves to help us manifest and co-create this year.\nYou will need:\n– a pen/pencil and paper\nFREE EVENT\nDonations are always wonderful to support our work as a religious nonprofit in South Carolina (and beyond!). You may make a donation at https://www.paypal.com/donate/…
URL:https://greenwildfellowship.org/event/virtual-new-moon-ritual-crafting-affirmations/
LOCATION:SC
CATEGORIES:Moon Cycle
ATTACH;FMTTYPE=image/jpeg:https://greenwildfellowship.org/wp-content/uploads/2025/02/GSF-New-Moon-3.jpg
END:VEVENT
BEGIN:VEVENT
DTSTART;TZID=UTC:20250212T190000
DTEND;TZID=UTC:20250212T200000
DTSTAMP:20260423T182935
CREATED:20250124T182913Z
LAST-MODIFIED:20250124T182913Z
UID:308-1739386800-1739390400@greenwildfellowship.org
SUMMARY:Full Snow Moon | Heart Chakra Ritual for Self-Love
DESCRIPTION:Join us for another full moon ceremony on Wednesday\, Feb 12\, 2025 to celebrate the energy of the Full Snow Moon in Leo. \n\nThe theme for February’s moon is all about self-love and compassion as we do a ritual soothing and healing the heart chakra to allow a deeper love for ourselves to bloom.\n\nCOLORS: Green\, Pink\, Red \n\nBring a flashlight (it’s dark out here in the boonies)\, a comfy camp chair\, warm clothes or even a blanket to wrap around you or sit on. Snacks are always welcome (but not required!). We will have a fire going. \n\nWe have folding chairs and some benches if you don’t have a comfy camp chair. \n\nFREE EVENT \n\n• Community Altar – bring items to be charged & blessed!• Focus on the heart chakra – self-love & self-compassion.• Bring a camp chair to sit on\, and wear warm clothes.• Flashlights are great\, it’s very dark.• Bring a snack to share if you’d like! \n\nDonations are always wonderful to support our work as a religious nonprofit in South Carolina (and beyond!) You may make a donation on our website or use our donation jar at the event. \n\nFamily friendly.\n———-Awen Grove (our covenstead) is located on Mela’s homestead property where 3 Rays of Light & Greenwild Spiritual Fellowship are currently located. We no longer post the address publicly\, if you need the address message a Greenwild Council member\, ask your friend that already knows or email greenwildfellowship@gmail.com. There is plenty of parking. This is OUTDOORS. We will be having a small fire
URL:https://greenwildfellowship.org/event/full-snow-moon-heart-chakra-ritual-for-self-love/
LOCATION:Awen Grove\, 2620 Sharpes Hill Rd\, Gaston\, SC\, 29053\, United States
CATEGORIES:Moon Cycle
ATTACH;FMTTYPE=image/png:https://greenwildfellowship.org/wp-content/uploads/2025/01/full-moon-feb-2025.png
END:VEVENT
BEGIN:VEVENT
DTSTART;TZID=UTC:20240523T173000
DTEND;TZID=UTC:20240523T203000
DTSTAMP:20260423T182935
CREATED:20240523T040655Z
LAST-MODIFIED:20240523T040655Z
UID:205-1716485400-1716496200@greenwildfellowship.org
SUMMARY:Full Flower Moon Ceremony & Oakhearts Children's Program Launch
DESCRIPTION:Oakhearts Children’s Program starts at 5:30PM\nFull Flower Moon Ceremony starts at 7:30PM\n**See the bottom for info on Oakhearts!!!\nJoin us for this month’s FULL MOON on Thursday\, May 23 on the Full Flower Moon. Our theme and focus for this flower moon will be on BLOOMING ABUNDANCE.\nFREE EVENT\n• Community Altar – bring items to be charged & blessed!• Abundance & Prosperity Meditation• Drawing in Abundance Ritual• Fire & Connection – bring a camp chair to sit on!• Bring a snack to share if you’d like!\nDonations are always wonderful to support our work as a religious nonprofit in South Carolina (and beyond!) You may make a donation at https://www.paypal.com/donate/… or use our donation jar at the event.\nKids are welcome – you must watch them at all times on the property!\nBY THE WAY – If you have kids\, we are launching our Oakhearts program before this full moon ceremony! Want to come check it out? Tabitha Lusco is our Children’s Minister and a ton of work has gone into developing this fun nature-based program based around what the kids want to learn and experience. It’s at 5:30pm\, and we are suggesting a donation of $5 per child/per month which goes directly to the Oakhearts program (max $25 per family). We are currently planning on meeting at least twice a month.\nAwen Grove (our covenstead) is located on Mela’s homestead property where 3 Rays of Light & Greenwild Spiritual Fellowship are currently located. It is at 2620 Sharpes Hill Rd\, Gaston SC 29053. There is plenty of parking. This is OUTDOORS.
URL:https://greenwildfellowship.org/event/full-flower-moon-ceremony-oakhearts-childrens-program-launch/
LOCATION:Awen Oaks\, 2620 Sharpes Hill Rd\, Gaston\, SC\, 29053\, United States
CATEGORIES:Moon Cycle
ATTACH;FMTTYPE=image/jpeg:https://greenwildfellowship.org/wp-content/uploads/2024/05/Full-Flower-Moon.jpg
END:VEVENT
BEGIN:VEVENT
DTSTART;TZID=UTC:20240423T193000
DTEND;TZID=UTC:20240423T203000
DTSTAMP:20260423T182935
CREATED:20240416T223208Z
LAST-MODIFIED:20240416T224736Z
UID:190-1713900600-1713904200@greenwildfellowship.org
SUMMARY:Full Pink Moon Ceremony At Awen Grove
DESCRIPTION:  \nJoin us for this month’s FULL MOON on Tuesday\, April 23 on the Full Pink Moon. Our theme and focus will be on HEALING – mind\, body and spirit. Any healers\, energy practitioners\, including Reiki healers who attend will be invited to join with us in using our healing gifts with the community. \n\nFREE EVENT\n• Community Altar – bring items to be charged & blessed!• Healing Ritual• Fire & Connection – bring a camp chair to sit on!• Bring a snack to share if you’d like!\nDonations are always wonderful to support our work as a religious nonprofit in South Carolina (and beyond!) You may make a donation at https://www.paypal.com/donate/… or use our donation jar at the event.\nKids are welcome – you must watch them at all times on the property!\nAwen Grove is Mela’s homestead property where 3 Rays of Light & Greenwild Spiritual Fellowship are currently located. It is at 2620 Sharpes Hill Rd\, Gaston SC 29053.\nThere is plenty of parking. This is OUTDOORS.\nThis is also on Facebook
URL:https://greenwildfellowship.org/event/full-pink-moon-ceremony-at-awen-grove/
LOCATION:Awen Oaks\, 2620 Sharpes Hill Rd\, Gaston\, SC\, 29053\, United States
CATEGORIES:Moon Cycle
ATTACH;FMTTYPE=image/jpeg:https://greenwildfellowship.org/wp-content/uploads/2024/04/435757038_407437655371090_6844260477080144984_n.jpg
END:VEVENT
BEGIN:VEVENT
DTSTART;TZID=UTC:20240111T190000
DTEND;TZID=UTC:20240111T200000
DTSTAMP:20260423T182935
CREATED:20231213T191715Z
LAST-MODIFIED:20231213T191715Z
UID:131-1704999600-1705003200@greenwildfellowship.org
SUMMARY:New Moon\, New Year Prosperity Ritual (VIRTUAL)
DESCRIPTION:VIRTUAL EVENT!\nThursday\, Jan 11 at 7pm EST\nJoin us for January’s New Moon as we call in abundance and prosperity for 2024. You’ll need a candle (any color will work\, but green or gold fits our theme) and a piece of paper about the size of a check and pen for each person joining us.\nNew moons are for setting new intentions\, so join us in community as we set the intention for a prosperous new year in 2024.\nZoom will ask you for your email address when you register for the link\, it simply allows us to have a safer experience. So\, please register and join us! Click Here to Register: https://us02web.zoom.us/…/tZwkdeyrqzotH9JDGd…\nSponsored by the Awen Grove Pagan Fellowship\, which is part of Greenwild Spiritual Fellowship.\nFREE EVENT\nDonations are always wonderful to support our work as a religious nonprofit in South Carolina (and beyond!). You may make a donation at https://www.paypal.com/donate/…\n———-\nThis virtual event is part of South Carolina Interfaith Harmony Month and everyone\, no matter your faith\, is welcome to attend. It is your choice whether you participate or simply observe!
URL:https://greenwildfellowship.org/event/new-moon-new-year-prosperity-ritual-virtual/
LOCATION:Zoom
CATEGORIES:Moon Cycle
ATTACH;FMTTYPE=image/png:https://greenwildfellowship.org/wp-content/uploads/2023/12/new-moon-ritual-2.png
END:VEVENT
BEGIN:VEVENT
DTSTART;TZID=UTC:20231226T200000
DTEND;TZID=UTC:20231226T210000
DTSTAMP:20260423T182935
CREATED:20231213T185916Z
LAST-MODIFIED:20231213T185917Z
UID:126-1703620800-1703624400@greenwildfellowship.org
SUMMARY:Full Moon Ritual - Yuletide Magick (VIRTUAL)
DESCRIPTION:ONLINE RITUAL – All are welcome! \n\nJoin us in celebrating the Yuletide season at December 2023’s Full Moon Ritual held virtually on Zoom. This will be Greenwild Spiritual Fellowships FIRST official Full Moon Ritual! \nRegister here: https://us02web.zoom.us/meeting/register/tZEtfu2grDMsHNJ0TomWvWwiOscEKHowCOaK \n\nTake a tour of Yuletide energies from around the world\, talk about pagan Yule traditions (you’ll have a chance to share your own!) and celebrate the Yule season with us. We’ll also be doing a traditional release ritual to get rid of old baggage we don’t want to take into 2024. \n\nIf you wish to participate\, please have a candle (LED or flame) as we’ll be lighting all our candles together to celebrate this season. Festive attire (whatever that means to you!) is welcomed! \n\nYou are welcome to stay after the ritual during our Divination Share – bring your favorite divination tool to show\, share\, or even give us a reading! \n\n*****\nThis is a FREE EVENT. Donations to the religious nonprofit Greenwild Spiritual Fellowship are always appreciated\, especially as we are pursuing our 501(c)3 and setting up our nonprofit. \nThis ceremony will be led by the ordained celebrant Rev. Mela Borawski\, whose own spiritual path is eclectic and earth-centered. If you have questions\, please feel free to contact us at greenwildfellowship@gmail.com. \n\nRemember –\n– 8pm for the ceremony.\n– Zoom link requires email registration\n– Have a candle (LED or flame).
URL:https://greenwildfellowship.org/event/full-moon-ritual-yuletide-magick-virtual/
LOCATION:Zoom
CATEGORIES:Moon Cycle
ATTACH;FMTTYPE=image/png:https://greenwildfellowship.org/wp-content/uploads/2023/12/dec-full-moon-2023-1.png
END:VEVENT
END:VCALENDAR