BEGIN:VCALENDAR
VERSION:2.0
PRODID:-//Greenwild Spiritual Fellowship - ECPv6.15.20//NONSGML v1.0//EN
CALSCALE:GREGORIAN
METHOD:PUBLISH
X-WR-CALNAME:Greenwild Spiritual Fellowship
X-ORIGINAL-URL:https://greenwildfellowship.org
X-WR-CALDESC:Events for Greenwild Spiritual Fellowship
REFRESH-INTERVAL;VALUE=DURATION:PT1H
X-Robots-Tag:noindex
X-PUBLISHED-TTL:PT1H
BEGIN:VTIMEZONE
TZID:UTC
BEGIN:STANDARD
TZOFFSETFROM:+0000
TZOFFSETTO:+0000
TZNAME:UTC
DTSTART:20230101T000000
END:STANDARD
END:VTIMEZONE
BEGIN:VEVENT
DTSTART;TZID=UTC:20250802T100000
DTEND;TZID=UTC:20250802T190000
DTSTAMP:20260423T182525
CREATED:20250124T185826Z
LAST-MODIFIED:20250422T151237Z
UID:313-1754128800-1754161200@greenwildfellowship.org
SUMMARY:Greenwild Festival for Witches & Mystics
DESCRIPTION:Please join us for a live VIRTUAL gathering as we host our Greenwild Festival for Witches & Mystics yet again! This festival supports the pagan nonprofit\, Greenwild Spiritual Fellowship and it’s online school\, Greenwild Mystical Academy. \n\n\nOur theme for our 2025 online festival is “ELEMENTAL MAGICK”. We will focus on the five elements of earth\, air\, water\, fire and spirit and will bring you spellcrafting opportunities\, educational workshops\, community discussions and ritual around these five elements. \n\n\nThis all-day festival is a time of education & community for the witchy and mystical community. You may attend as much or as little as you wish\, and may pop in and out throughout the day. A schedule will be provided closer to the event date. \n\nFOR ATTENDEESWhen: Saturday\, Aug 2 from 10am – 7pm EST.Where: Virtual via ZoomCost: Pay What You Can – $15\, $20\, $25\, $30\n\n(We know these have been tough times\, so if you cannot afford the full price of $30 you may choose to pay $25\, $20\, or even $15 if that is helpful for you to attend.) \n\n\nINTERESTED IN PRESENTING OR ADVERTISING IN OUR FESTIVAL PROGRAM?Reach out and let us know of your interest and we’ll get more information to you at greenwildfellowship@gmail.com. Give us an idea of what you’d like to present (lecture\, workshop\, lead a DIY or craft\, performance\, etc) and let us know how it relates to our theme of Elemental Magick. \n\nAN ONLINE FUNDRAISING EVENT FORGreenwild Spiritual Fellowship (Awen Grove)Greenwild Mystical Academy
URL:https://greenwildfellowship.org/event/313/
LOCATION:Zoom
CATEGORIES:Educational Opportunities
ATTACH;FMTTYPE=image/png:https://greenwildfellowship.org/wp-content/uploads/2025/01/greenwild-1920-x-1080-px-1-1.png
END:VEVENT
BEGIN:VEVENT
DTSTART;TZID=UTC:20250128T190000
DTEND;TZID=UTC:20250128T203000
DTSTAMP:20260423T182525
CREATED:20250124T173535Z
LAST-MODIFIED:20250124T173535Z
UID:262-1738090800-1738096200@greenwildfellowship.org
SUMMARY:Spirituality Through Poetic Expression | Virtual Seminar
DESCRIPTION:Spirituality through Poetic ExpressionTuesday\, January 28th\, 7-8:30pmPresented by Rev. Mela Borawski of Greenwild Spiritual Fellowship(Virtual) https://tinyurl.com/poeticexpression\n\nIn this workshop\, we will discuss the power of poetic expression as a spiritual practice. We will focus on using poetic devices to write heartfelt prayers and poems. All faiths are invited to participate. You will be taught literary tips\, tricks\, and poetic forms as well as being guided through the creation of your own poetic prayer using the collect method.\n\nThis event is in celebration of Interfaith Harmony Month with Interfaith Partners of South Carolina and is open to all faiths. See the full calendar of January events at www.interfaithpartnersofsc.org
URL:https://greenwildfellowship.org/event/spirituality-through-poetic-expression-virtual-seminar/
LOCATION:Zoom
CATEGORIES:Educational Opportunities
ATTACH;FMTTYPE=image/png:https://greenwildfellowship.org/wp-content/uploads/2025/01/poetic-expression-seminar-1.png
END:VEVENT
BEGIN:VEVENT
DTSTART;TZID=UTC:20250126T130000
DTEND;TZID=UTC:20250126T143000
DTSTAMP:20260423T182525
CREATED:20250124T172835Z
LAST-MODIFIED:20250124T172835Z
UID:258-1737896400-1737901800@greenwildfellowship.org
SUMMARY:Queering Your Craft
DESCRIPTION:This FREE community group begins in 2025 and will meet at Foraged Spaces LLC at 6 Clusters Ct\, Columbia\, SC (near Ollie’s in between St. Andrews & Bush River). \n\nAre you a queer pagan and/or witch in the area? Would you like to come together to learn how to make your own personal path more inclusive\, and be supported as you do so? Maybe you’ve done the work to create a more inclusive practice and want to share what you know with your community. Please join us! \n\nWhat do I mean when I say “Queering Your Craft”?Myself and Greenwild Spiritual Fellowship feel strongly about making language and practice more inclusive\, and feel that a lot of the books and practices out in the world today are very Goddess\, or God/Goddess oriented. We leave out the queer stories of the godds\, and simply make do with a very binary gender view on the deities\, which is reflected in our practices. \n\nHow do we queer our language around deities? How do we queer our rituals\, spells\, practices? Let’s work on this together! \n\nThis community group is led by Hearthkeeper Mela Borawski\, queer & polyamorous pagan witch of the Greenwild Spiritual Fellowship / Awen Grove covenstead. This is an open group\, so it does not matter what your personal pagan and/or witchcraft path may be (or if you aren’t sure and you are searching) as all respectful paths and folx are welcome here. We all have something to learn from each other. \n\nMela’s goal is that this becomes a monthly or bi-monthly community group\, but let’s see if there’s interest!
URL:https://greenwildfellowship.org/event/queering-your-craft/
LOCATION:Foraged Spaces\, 6 Clusters Ct\, Columbia\, SC\, United States
CATEGORIES:Educational Opportunities
ATTACH;FMTTYPE=image/png:https://greenwildfellowship.org/wp-content/uploads/2025/01/queering-craft-1.png
END:VEVENT
BEGIN:VEVENT
DTSTART;TZID=UTC:20240628T190000
DTEND;TZID=UTC:20240628T203000
DTSTAMP:20260423T182525
CREATED:20240523T042809Z
LAST-MODIFIED:20240523T042809Z
UID:217-1719601200-1719606600@greenwildfellowship.org
SUMMARY:Descent to the Underworld: A (Virtual) Shadow Work Community Group
DESCRIPTION:FREE VIRTUAL COMMUNITY SHADOW WORK GROUP – (Meeting on Zoom the last Friday of every month from 7-8:30 EST. )\nRegister at the link provided with your email\, in order to access all monthly meetings in 2024. https://us02web.zoom.us/…/tZEkcu6upzwrH9OgfkKQyGllsYALg…\n((If you are new\, we always give a brief introduction to shadow work\, so all levels of knowledge and experience are welcome. If you’ve heard of the term\, or have wanted to learn more about shadow work\, please feel free to join us!))\nWhether you’re thinking about the opportunity to delve into shadow work\, choosing to already engage in shadow work\, or the world is “giving” you the opportunity to take a walk into the underworld whether you like it or not\, having a community supporting you along the path is vital.\nThis small group’s goal is to provide a safe and sacred space where we will descend together and explore the shadows we encounter along the way.\nFacilitators are trained and experienced in a variety of practical and experiential methods and modalities to guide you to a deeper awareness of who you are at your most authentic core level\, how to face your shadows and how to decide whether to integrate\, release or accept the shadows you find along the way.\nThere is absolutely nothing like having a compassionate community beside you during this intense and deeply emotional self-reflection work. A community is a cauldron where the medicine of transformation can occur – often more rapidly than going it alone.\nThis group’s intention is to provide…– An open\, accepting and sacred space for authentic discussion.– Resources\, including journaling prompts and monthly assignments to assist you to delve deeper than surface level into your shadow.– Guidance and encouragement as we descend into the underworld together.– Opportunity to learn and use healing modalities and tools such as EFT (tapping)\, meditation\, intuition\, archetypal studies\, spiritual art techniques\, journaling\, dreamwork\, oracle/tarot readings & ritual.– Introduction to energies to support your process including Ascended Masters\, Angels & Gods & Goddesses of the Underworld such as Persephone.\nThis is an interfaith healing group\, though members should be aware that Mela comes from an earth-centered\, pagan world view and ask that you be open to learning other holistic and metaphysical concepts from various viewpoints and spiritualities.\nThis support group is FREE but donations welcome; all donations for this event are given to the nonprofit Greenwild Spiritual Fellowship. You may use Paypal (paypal.me/3RaysofLight)\, Venmo (@melaborawski) or CashApp ($PBorawski).
URL:https://greenwildfellowship.org/event/descent-to-the-underworld-a-virtual-shadow-work-community-group-2/
LOCATION:Zoom
CATEGORIES:Educational Opportunities
ATTACH;FMTTYPE=image/jpeg:https://greenwildfellowship.org/wp-content/uploads/2024/05/Descent-to-the-Underworld.jpg
END:VEVENT
BEGIN:VEVENT
DTSTART;TZID=UTC:20240601T090000
DTEND;TZID=UTC:20240601T180000
DTSTAMP:20260423T182525
CREATED:20240523T041846Z
LAST-MODIFIED:20240523T041846Z
UID:211-1717232400-1717264800@greenwildfellowship.org
SUMMARY:Fundraiser! Learn to build your own Cob Oven!
DESCRIPTION:Join GSF Saturday\, June 1st for a Cob (Earthen) Oven Build at Awen Oaks.\nCob is a mixture of sand\, clay and straw to make a structure- this time in particular\, an oven!\nYou will learn many aspects and concepts from thermal mass\, natural insulation\, cob mixing\, and more. Not to mention the amount of community building you will experience!\nAnyone who participates will be invited back to a pizza party compliments of the oven over the summer.\nFamily Friendly\, all ages.9am-6pm\nJoin for the whole day\, or any section(s) you’re interested in.\n9am: Meet and Greet10am: Make Cob!11:30am: Sand Mold1:00pm Lunch (pizza provided with ticket purchase)2:00pm: Cob Layer3:30pm: Insulation Layer4:30pm: Plaster Layer& Decorate6pm: Cleanup and Goodbyes\nSliding Scale $50-$200 per family. All proceeds go to the nonprofit Greenwild Spiritual Fellowship (GSF).
URL:https://greenwildfellowship.org/event/fundraiser-learn-to-build-your-own-cob-oven/
LOCATION:Awen Oaks\, 2620 Sharpes Hill Rd\, Gaston\, SC\, 29053\, United States
CATEGORIES:Educational Opportunities
ATTACH;FMTTYPE=image/jpeg:https://greenwildfellowship.org/wp-content/uploads/2024/05/cob-oven-fundraiser.jpg
END:VEVENT
BEGIN:VEVENT
DTSTART;TZID=UTC:20240531T190000
DTEND;TZID=UTC:20240531T203000
DTSTAMP:20260423T182525
CREATED:20240523T041421Z
LAST-MODIFIED:20240523T041421Z
UID:208-1717182000-1717187400@greenwildfellowship.org
SUMMARY:Descent to the Underworld: A (Virtual) Shadow Work Community Group
DESCRIPTION:FREE VIRTUAL COMMUNITY SHADOW WORK GROUP – (Meeting on Zoom the last Friday of every month from 7-8:30 EST. )\nRegister at the link provided with your email\, in order to access all monthly meetings in 2024. https://us02web.zoom.us/…/tZEkcu6upzwrH9OgfkKQyGllsYALg…\n((If you are new\, we always give a brief introduction to shadow work\, so all levels of knowledge and experience are welcome. If you’ve heard of the term\, or have wanted to learn more about shadow work\, please feel free to join us!))\nWhether you’re thinking about the opportunity to delve into shadow work\, choosing to already engage in shadow work\, or the world is “giving” you the opportunity to take a walk into the underworld whether you like it or not\, having a community supporting you along the path is vital.\nThis small group’s goal is to provide a safe and sacred space where we will descend together and explore the shadows we encounter along the way.\nFacilitators are trained and experienced in a variety of practical and experiential methods and modalities to guide you to a deeper awareness of who you are at your most authentic core level\, how to face your shadows and how to decide whether to integrate\, release or accept the shadows you find along the way.\nThere is absolutely nothing like having a compassionate community beside you during this intense and deeply emotional self-reflection work. A community is a cauldron where the medicine of transformation can occur – often more rapidly than going it alone.\nThis group’s intention is to provide…– An open\, accepting and sacred space for authentic discussion.– Resources\, including journaling prompts and monthly assignments to assist you to delve deeper than surface level into your shadow.– Guidance and encouragement as we descend into the underworld together.– Opportunity to learn and use healing modalities and tools such as EFT (tapping)\, meditation\, intuition\, archetypal studies\, spiritual art techniques\, journaling\, dreamwork\, oracle/tarot readings & ritual.– Introduction to energies to support your process including Ascended Masters\, Angels & Gods & Goddesses of the Underworld such as Persephone.\nThis is an interfaith healing group\, though members should be aware that Mela comes from an earth-centered\, pagan world view and ask that you be open to learning other holistic and metaphysical concepts from various viewpoints and spiritualities.\nThis support group is FREE but donations welcome; all donations for this event are given to the nonprofit Greenwild Spiritual Fellowship. You may use Paypal (paypal.me/3RaysofLight)\, Venmo (@melaborawski) or CashApp ($PBorawski)
URL:https://greenwildfellowship.org/event/descent-to-the-underworld-a-virtual-shadow-work-community-group/
LOCATION:Zoom
CATEGORIES:Educational Opportunities
ATTACH;FMTTYPE=image/jpeg:https://greenwildfellowship.org/wp-content/uploads/2024/05/Descent-to-the-Underworld.jpg
END:VEVENT
BEGIN:VEVENT
DTSTART;TZID=UTC:20240426T100000
DTEND;TZID=UTC:20240428T110000
DTSTAMP:20260423T182525
CREATED:20240213T210317Z
LAST-MODIFIED:20240213T210541Z
UID:167-1714125600-1714302000@greenwildfellowship.org
SUMMARY:Spring 2024 Witch Camp
DESCRIPTION:Join us for an immersive experience in spellcraft & ritual as we come together as a magickal camping village for the weekend! This is a PRIMITIVE camping experience for adults (teen children allowed with a parent in attendance).\nSPACE IS LIMITED\nOur weekend will include educational workshops\, spellcrafting\, herbalism instruction & plant medicine creation\, tool creation\, divination sharing and engaging in community ritual together on 8 acres of woods in Traveler’s Rest\, SC.\nEvery morning\, we will begin the day with sun salutations & meditation. We will play\, bond\, commune and create together all weekend!\nOur herbalist-in-residence\, Kasey\, will not only take us on a plant identification walk but also guide us in creating plant medicine over the campfire.\nThere will\, as always\, be a “New Witch Basics” class on Friday afternoon. New witches or those who want a refresher will learn some basics on protection\, ethics\, altars and magickal tools to give you a foundation for the remaining time together.\nWatch our discussion area for details on our crafts\, classes & rituals!\nDATES: Friday\, April 26 @ 10AM through Sunday\, April 28 @ 11AM.\nLOCATION: 20 Acre Private campground in Traveler’s Rest\, SC – Address given once you register. PRIMITIVE camping\, you will need to bring everything you need. There is a compostable toilet\, and non-potable water. No showers.\nCOST: $55 per person\nAdd A Friend for $40 to camp with you! You must be staying in the same tent for the discount and you must register for both of you at the same time.\n(Payment plan available\, but a nonrefundable $20 per person must be paid up front.)\nREGISTRATION: https://3RaysofLight.as.me/witchcamp2024\nDEADLINE: Sat\, April 6\, 2024\nSee below for more information on costs and discounts.\n•Includes 2 Community Dinners\, Firewood\, Non-Potable Water (for washing)\, Educational & DIY Workshops & ALL Materials\n•If you decide not to attend before Sat\, April 6\, you will be refunded everything except a $20 deposit. After April 6\, if you decide not to attend\, you may transfer to another attendee\, but any money paid is nonrefundable.\n•If circumstances beyond our control cause this retreat to be cancelled\, you will receive a refund of everything you have paid except for a $20 deposit per person\, In this circumstance\, your nonrefundable deposit can be used by you or a person of your choice in a future retreat\, class or workshop by 3 Rays of Light.\n•Adults and teens are welcome\, but teens may only attend if an adult family member attends with them.\n•Nursing infants are always welcome to attend free of charge.\n_________\nDOES NOT INCLUDE CAMPING GEAR and EQUIPMENT YOU NEED!!\nBring anything you will need to camp including tent/s\, bedrolls/sleeping bags\, flashlight\, tarps in case of rain\, camp chairs\, etc.\nDOES NOT INCLUDE YOUR BREAKFAST OR LUNCHES!! DOES NOT INCLUDE DRINKING WATER!!\nBring food that can be prepared over the fire\, or doesn’t need cooked\, to provide for your own breakfasts and lunches. Bring enough drinking water for the weekend. There are stores nearby so if you need something you can drive to a store. We will have hot water on the fire for us all weekend.\nLIMITED SPACE. WE ARE CREATING INTENTIONAL SPACE TOGETHER. Whether you are a seeker\, a new witch\, or a seasoned witch\, come together with like-minded folks for a weekend together. Space for camping is limited\, so be sure to register if you’re interested.\nCAMP VOLUNTEERS NEEDED\nPlease contact Mela at 3raysoflight@gmail.com or message her if you are interested in volunteering at the witch camp. General volunteers to help folks set up camp are needed\, as well as anyone who might want to teach a workshop\, lead a ritual\, meditation\, nature walk\, etc. There is no discount involved\, but you are invited (and encouraged) to come a day early (Thursday\, April 25).\nWITCH CAMP STAFF NEEDED\nThere are a few specific volunteer positions available that come with discounts:\n• (TAKEN) FIRE WITCH – In charge of lighting our fire in the morning\, and keeping it going through the day as we need it for meals\, etc. Please be experienced in making outdoor fires!!\n*Amber Arati\n• (TAKEN) HEARTH WITCH – In charge of our community dinners on Friday & Saturday night. Cooking & making sure we have what we need. Please be experienced in cooking over a campfire!!\n*Mandy Applegate\nOTHER HELPFUL INFORMATION\nFood Allergies or Sensitivities: Please let us know when you register if you have allergies\, sensitivities or special requests such as gluten-free or vegetarian.\nRitual attire\, witchy attire\, etc is welcome and encouraged! Be sure to check weather\, it should be nice the last weekend in April but could be chilly in the evenings. Prepare for rain\, just in case.\nBring any divination tools\, journal & pen\, altar items you wish to put on our Spring altar\, or anything else that connects you spiritually!\nBathrooms: We will have a compostable toilet on the campsite.\nUnplug From Technology: We ask that you honor the sacred space we are creating here by not bringing laptops and such with you. Cell phones are fine\, but as this is an “unplugged” retreat\, we’d rather you not be focusing your energy and attention on things you find online on your phone\, so please consider tucking them away just for emergencies or using them away from other retreatants. Please do not take photos or videos of fellow witches unless you have their permission.\nSpring Witch Camp is sponsored by the nonprofit Greenwild Spiritual Fellowship\, and supported by 3 Rays of Light Healing Center\, Midlands Pagan Collective\, and Awen Grove Pagan Fellowship.
URL:https://greenwildfellowship.org/event/spring-2024-witch-camp/
LOCATION:Campground
CATEGORIES:camping event,Educational Opportunities
ATTACH;FMTTYPE=image/png:https://greenwildfellowship.org/wp-content/uploads/2024/02/spring-witchcamp-Facebook-Event-Cover-2.png
END:VEVENT
BEGIN:VEVENT
DTSTART;TZID=UTC:20240306T190000
DTEND;TZID=UTC:20240306T200000
DTSTAMP:20260423T182525
CREATED:20240213T210034Z
LAST-MODIFIED:20240213T210034Z
UID:163-1709751600-1709755200@greenwildfellowship.org
SUMMARY:Wondering Wednesday: The Witch Wound (ONLINE)
DESCRIPTION:Wednesday\, March 6 at 7pm LIVESTREAM on FACEBOOK \n\nThe Witch Wound\nLet’s discuss the witch wound that most\, if not all of us carry. Learn what it is\, and how we can heal from it and move forward. Some call it the persecution wound\, some even call it the “energetic imprint of colonization”\, and it is considered an ancestral wound we carry energetically that can be creating real-life problems today for us! \n\nSTREAMED IN THE 3 RAYS OF LIGHT HEALING COMMUNITY GROUP so please find me here https://www.facebook.com/groups/1328797240976214 at 7pm on Wed\, March 6!\n\nDonations are amazing!! (suggested donation $5)\, all donations go to support Greenwild Spiritual Foundation’s efforts to become a 501(c)3 religious non-profit.\nPaypal: paypal.me/greenwildfellowship\nCashApp: $PBorawski\nVenmo: @melaborawski
URL:https://greenwildfellowship.org/event/wondering-wednesday-the-witch-wound-online/
LOCATION:Facebook Streamig
CATEGORIES:Educational Opportunities
ATTACH;FMTTYPE=image/png:https://greenwildfellowship.org/wp-content/uploads/2024/02/list-5.png
END:VEVENT
BEGIN:VEVENT
DTSTART;TZID=UTC:20240221T190000
DTEND;TZID=UTC:20240221T200000
DTSTAMP:20260423T182525
CREATED:20240213T205729Z
LAST-MODIFIED:20240213T205729Z
UID:158-1708542000-1708545600@greenwildfellowship.org
SUMMARY:Wondering Wednesday: Using "Love Languages" for Self-Love (ONLINE)
DESCRIPTION:Wednesday\, Feb 21 at 7pm LIVESTREAM ON FACEBOOK \n\nUsing Love Language ideas for SELF-LOVE! \n\nLet’s talk about the idea of love languages\, what’s useful for us and what may not be so useful\, and how we can turn that around into how we can better love ourselves! \n\nSTREAMED IN THE 3 RAYS OF LIGHT HEALING COMMUNITY GROUP so please find me here https://www.facebook.com/groups/1328797240976214 at 7pm on Wed\, Feb 21!\n\nDonations are amazing!! (suggested donation $5)\, all donations go to support Greenwild Spiritual Foundation’s efforts to become a 501(c)3 religious non-profit.\nPaypal: paypal.me/greenwildfellowship\nCashApp: $PBorawski\nVenmo: @melaborawski
URL:https://greenwildfellowship.org/event/wondering-wednesday-using-love-languages-for-self-love-online/
LOCATION:Facebook Streamig
CATEGORIES:Educational Opportunities
ATTACH;FMTTYPE=image/png:https://greenwildfellowship.org/wp-content/uploads/2024/02/list-4.png
END:VEVENT
END:VCALENDAR