BEGIN:VCALENDAR
VERSION:2.0
PRODID:-//Greenwild Spiritual Fellowship - ECPv6.15.20//NONSGML v1.0//EN
CALSCALE:GREGORIAN
METHOD:PUBLISH
X-WR-CALNAME:Greenwild Spiritual Fellowship
X-ORIGINAL-URL:https://greenwildfellowship.org
X-WR-CALDESC:Events for Greenwild Spiritual Fellowship
REFRESH-INTERVAL;VALUE=DURATION:PT1H
X-Robots-Tag:noindex
X-PUBLISHED-TTL:PT1H
BEGIN:VTIMEZONE
TZID:UTC
BEGIN:STANDARD
TZOFFSETFROM:+0000
TZOFFSETTO:+0000
TZNAME:UTC
DTSTART:20240101T000000
END:STANDARD
END:VTIMEZONE
BEGIN:VEVENT
DTSTART;TZID=UTC:20250216T130000
DTEND;TZID=UTC:20250216T143000
DTSTAMP:20260423T182509
CREATED:20250124T183700Z
LAST-MODIFIED:20250124T183700Z
UID:311-1739710800-1739716200@greenwildfellowship.org
SUMMARY:3SS | Spellcrafting Class | Love & Romance Self-Love Spell Bottle
DESCRIPTION:Starting in January 2025\, our third Sunday service will be a “3rd Sunday Surprise” with different activities each month. \n\nFebruary we will have a “Spellcrafting Class” where Mela will teach about love & romance spells and magick (including ethics) and we’ll craft a self-love spell bottle together. \n\nThere is no cost (donations ALWAYS accepted – $5-$10 would be great for this) but you will need to bring these supplies to keep our cost down: \n\nYOU BRING THESE:\n– a small bottle or jar for your spell bottle / needs a lid or cork– anything you’d like to put in your bottle that’s special that we may not be providing such as a photo of yourself\, etc.– A refillable water bottle or drink for yourself– A snack to share (optional) \n\nWE WILL PROVIDE:\n– education with our Hearthkeeper Mela– Lots and lots of spellcrafting ingredients to choose from for your bottles \n\nWe will be indoors in Mela’s house\, but if it’s a nice day as usual we may spread out to the back porch. If you don’t know the address\, ask your friends that attend\, a council member\, join our discord or email greenwildfellowship@gmail.com.
URL:https://greenwildfellowship.org/event/3ss-spellcrafting-class-love-romance-self-love-spell-bottle/
LOCATION:Awen Grove\, 2620 Sharpes Hill Rd\, Gaston\, SC\, 29053\, United States
CATEGORIES:3rd Sunday Surprise
ATTACH;FMTTYPE=image/png:https://greenwildfellowship.org/wp-content/uploads/2025/01/Craft-y-Sunday-1.png
END:VEVENT
END:VCALENDAR